BEGIN:VCALENDAR
VERSION:2.0
PRODID:spatie/icalendar-generator
DESCRIPTION:Events from St. Mary the Virgin Anglican Rite Catholic Parish
X-WR-CALDESC:Events from St. Mary the Virgin Anglican Rite Catholic Parish
REFRESH-INTERVAL;VALUE=DURATION:PT1440M
X-PUBLISHED-TTL:PT1440M
BEGIN:VTIMEZONE
TZID:Etc/GMT+8
BEGIN:STANDARD
DTSTART:20250706T190000Z
TZOFFSETFROM:-0800
TZOFFSETTO:-0800
END:STANDARD
END:VTIMEZONE
BEGIN:VTIMEZONE
TZID:UTC
BEGIN:STANDARD
DTSTART:20250727T235800Z
TZOFFSETFROM:+0000
TZOFFSETTO:+0000
END:STANDARD
END:VTIMEZONE
BEGIN:VEVENT
UID:2608-411
DTSTAMP:20260423T235800Z
SUMMARY:Maundy Thursday Mass
LOCATION:
ORGANIZER;CN=Ken:MAILTO:ken@kubonics.com
DTSTART;TZID=Etc/GMT+8:20260402T190000
DTEND;TZID=Etc/GMT+8:20260402T203000
X-ALT-DESC;FMTTYPE=TEXT/HTML:Institution of the Lord's Supper and Stripping
  and Washing of the Altar Mensa. Download the service booklet here Join th
 e Zoom service here &amp;nbsp\;
CATEGORIES:General
URL;VALUE=URI:https://www.stmaryanglican.org/my-calendar?mc_id=2608
METHOD:PUBLISH
END:VEVENT
BEGIN:VEVENT
UID:2609-412
DTSTAMP:20260423T235800Z
SUMMARY:Liturgy of Good Friday
LOCATION:
ORGANIZER;CN=Ken:MAILTO:ken@kubonics.com
DTSTART;TZID=Etc/GMT+8:20260403T120000
DTEND;TZID=Etc/GMT+8:20260403T143000
X-ALT-DESC;FMTTYPE=TEXT/HTML:Stations of the Cross\, Solemn Collects\, Vene
 ration of the Cross\, Mass of the Presanctified\, Evening Prayer You are f
 ree to join or leave the liturgy at any point depending on your schedule. 
 Download the service guide here Join the Zoom service here
CATEGORIES:General
URL;VALUE=URI:https://www.stmaryanglican.org/my-calendar?mc_id=2609
METHOD:PUBLISH
END:VEVENT
BEGIN:VEVENT
UID:2610-413
DTSTAMP:20260423T235800Z
SUMMARY:Solemn High Mass of the Resurrection
LOCATION:
ORGANIZER;CN=Ken:MAILTO:ken@kubonics.com
DTSTART;TZID=Etc/GMT+8:20260405T100000
DTEND;TZID=Etc/GMT+8:20260406T000000
X-ALT-DESC;FMTTYPE=TEXT/HTML:We will observe Easter Sunday with a Solemn Hi
 gh Mass.  Bishop Rasch is planning to celebrate and preach. The Zoom serv
 ice will continue for our remote congregants and those who are not yet rea
 dy to assume the risk of attending indoor services. Download the service b
 ooklet here Join the Zoom service here Join Zoom Meeting&amp;hellip\;
CATEGORIES:General
URL;VALUE=URI:https://www.stmaryanglican.org/my-calendar?mc_id=2610
METHOD:PUBLISH
END:VEVENT
BEGIN:VEVENT
UID:2610-413
DTSTAMP:20260423T235800Z
SUMMARY:Solemn High Mass of the Resurrection
LOCATION:
ORGANIZER;CN=Ken:MAILTO:ken@kubonics.com
DTSTART;TZID=Etc/GMT+8:20260405T100000
DTEND;TZID=Etc/GMT+8:20260406T000000
X-ALT-DESC;FMTTYPE=TEXT/HTML:We will observe Easter Sunday with a Solemn Hi
 gh Mass.  Bishop Rasch is planning to celebrate and preach. The Zoom serv
 ice will continue for our remote congregants and those who are not yet rea
 dy to assume the risk of attending indoor services. Download the service b
 ooklet here Join the Zoom service here Join Zoom Meeting&amp;hellip\;
CATEGORIES:General
URL;VALUE=URI:https://www.stmaryanglican.org/my-calendar?mc_id=2610
METHOD:PUBLISH
END:VEVENT
BEGIN:VEVENT
UID:2611-414
DTSTAMP:20260423T235800Z
SUMMARY:Deacon's Liturgy (Easter I)
LOCATION:
ORGANIZER;CN=Ken:MAILTO:ken@kubonics.com
DTSTART;TZID=Etc/GMT+8:20260412T100000
DTEND;TZID=Etc/GMT+8:20260413T000000
X-ALT-DESC;FMTTYPE=TEXT/HTML:We will observe the First Sunday after Easter 
 with a Mass of the Presanctified (Deacon's Liturgy).  Deacon Yeager is pl
 anning to celebrate and preach. The Zoom service will continue for our rem
 ote congregants and those who are not yet ready to assume the risk of atte
 nding indoor services. Download the service booklet here Join the&amp;hellip\;
CATEGORIES:General
URL;VALUE=URI:https://www.stmaryanglican.org/my-calendar?mc_id=2611
METHOD:PUBLISH
END:VEVENT
BEGIN:VEVENT
UID:2611-414
DTSTAMP:20260423T235800Z
SUMMARY:Deacon's Liturgy (Easter I)
LOCATION:
ORGANIZER;CN=Ken:MAILTO:ken@kubonics.com
DTSTART;TZID=Etc/GMT+8:20260412T100000
DTEND;TZID=Etc/GMT+8:20260413T000000
X-ALT-DESC;FMTTYPE=TEXT/HTML:We will observe the First Sunday after Easter 
 with a Mass of the Presanctified (Deacon's Liturgy).  Deacon Yeager is pl
 anning to celebrate and preach. The Zoom service will continue for our rem
 ote congregants and those who are not yet ready to assume the risk of atte
 nding indoor services. Download the service booklet here Join the&amp;hellip\;
CATEGORIES:General
URL;VALUE=URI:https://www.stmaryanglican.org/my-calendar?mc_id=2611
METHOD:PUBLISH
END:VEVENT
BEGIN:VEVENT
UID:2612-415
DTSTAMP:20260423T235800Z
SUMMARY:High Mass (Easter II)
LOCATION:
ORGANIZER;CN=Ken:MAILTO:ken@kubonics.com
DTSTART;TZID=Etc/GMT+8:20260419T100000
DTEND;TZID=Etc/GMT+8:20260420T000000
X-ALT-DESC;FMTTYPE=TEXT/HTML:We will observe the Second Sunday after Easter
  with a High Mass.  Bishop Rasch is planning to celebrate and preach. The
  Zoom service will continue for our remote congregants and those who are n
 ot yet ready to assume the risk of attending indoor services. Download the
  service booklet here Join the Zoom service here Join&amp;hellip\;
CATEGORIES:General
URL;VALUE=URI:https://www.stmaryanglican.org/my-calendar?mc_id=2612
METHOD:PUBLISH
END:VEVENT
BEGIN:VEVENT
UID:2612-415
DTSTAMP:20260423T235800Z
SUMMARY:High Mass (Easter II)
LOCATION:
ORGANIZER;CN=Ken:MAILTO:ken@kubonics.com
DTSTART;TZID=Etc/GMT+8:20260419T100000
DTEND;TZID=Etc/GMT+8:20260420T000000
X-ALT-DESC;FMTTYPE=TEXT/HTML:We will observe the Second Sunday after Easter
  with a High Mass.  Bishop Rasch is planning to celebrate and preach. The
  Zoom service will continue for our remote congregants and those who are n
 ot yet ready to assume the risk of attending indoor services. Download the
  service booklet here Join the Zoom service here Join&amp;hellip\;
CATEGORIES:General
URL;VALUE=URI:https://www.stmaryanglican.org/my-calendar?mc_id=2612
METHOD:PUBLISH
END:VEVENT
END:VCALENDAR